BEGIN:VCALENDAR
PRODID:-//AT Content Types//AT Event//EN
VERSION:1.0
BEGIN:VEVENT
DTSTART:20251124T160000Z
DTEND:20251124T180000Z
DCREATED:20251117T124623Z
UID:ATEvent-a2cbc3269eeb488f9e7278c041c6373d
SEQUENCE:0
LAST-MODIFIED:20251118T132043Z
SUMMARY:Venezia\, Ancona e Marsigla tra XVI e XVIII secolo. Congiunture\, reti commerciali e traffici globali
PRIORITY:3
TRANSP:0
END:VEVENT
END:VCALENDAR
