BEGIN:VCALENDAR
PRODID:-//AT Content Types//AT Event//EN
VERSION:1.0
BEGIN:VEVENT
DTSTART:20251028T160000Z
DTEND:20251028T180000Z
DCREATED:20251023T084432Z
UID:ATEvent-f77b69a528d040f595d5890fffe1e68b
SEQUENCE:0
LAST-MODIFIED:20251023T090703Z
SUMMARY:La Libraria ducale di Urbino sotto Francesco Maria II Della Rovere\: novità su acquisizioni\, interessi umanistici\, scientifici e artistici
DESCRIPTION:UMANESIMO ADRIATICO (SECC. XIV-XVI)\: RICERCHE\, RACCONTI\
 , LETTURE | Adriatic Humanism (XIVth-XVIth Centuries)\: research\, sto
 ries and readings (Ciclo X)
PRIORITY:3
TRANSP:0
END:VEVENT
END:VCALENDAR
