BEGIN:VCALENDAR
PRODID:-//AT Content Types//AT Event//EN
VERSION:1.0
BEGIN:VEVENT
DTSTART:20251125T140000Z
DTEND:20251125T160000Z
DCREATED:20251106T164716Z
UID:ATEvent-8937db6e79374f70808881b2fe7307b0
SEQUENCE:0
LAST-MODIFIED:20251106T164734Z
SUMMARY:Patrimonio culturale e cambiamento climatico\: dialoghi
PRIORITY:3
TRANSP:0
END:VEVENT
END:VCALENDAR
