BEGIN:VCALENDAR
PRODID:-//AT Content Types//AT Event//EN
VERSION:1.0
BEGIN:VEVENT
DTSTART:20251128T140000Z
DTEND:20251128T170000Z
DCREATED:20251114T105710Z
UID:ATEvent-73a60e5209a54686add4191b1da9bb05
SEQUENCE:0
LAST-MODIFIED:20251121T095938Z
SUMMARY:Orizzonti Mediterranei. Ricerche dell'Università di Macerata dall'antichità al mondo contemporaneo
DESCRIPTION:Ricordando la Notte Nazionale del Liceo Classico - XI ediz
 ione
PRIORITY:3
TRANSP:0
END:VEVENT
END:VCALENDAR
