BEGIN:VCALENDAR
PRODID:-//AT Content Types//AT Event//EN
VERSION:1.0
BEGIN:VEVENT
DTSTART:20251103T130000Z
DTEND:20251103T150000Z
DCREATED:20251020T163612Z
UID:ATEvent-b2dbc24023ad45e08aa946877ee1ce91
SEQUENCE:0
LAST-MODIFIED:20251022T071423Z
SUMMARY:Oltre la guerra\: la catastrofe umanitaria a Gaza. Una riflessione a più voci
DESCRIPTION:Evento in collaborazione con il Centro Studi Costituzional
 i
PRIORITY:3
TRANSP:0
END:VEVENT
END:VCALENDAR
