BEGIN:VCALENDAR
PRODID:-//AT Content Types//AT Event//EN
VERSION:2.0
METHOD:PUBLISH
BEGIN:VEVENT
DTSTAMP:20260419T150554Z
CREATED:20251023T084900Z
UID:ATEvent-9b735151633742e19b6383a65de327a7
LAST-MODIFIED:20251023T090628Z
SUMMARY:Le stampe veneziane di Filopono\: problemi e prospettive di ricerca.
DTSTART:20251104T160000Z
DTEND:20251104T180000Z
DESCRIPTION:UMANESIMO ADRIATICO (SECC. XIV-XVI)\: RICERCHE\, RACCONTI\
 , LETTURE | Adriatic Humanism (XIVth-XVIth Centuries)\: research\, sto
 ries and readings (X Ciclo)
CLASS:PUBLIC
END:VEVENT
END:VCALENDAR
