BEGIN:VCALENDAR
PRODID:-//AT Content Types//AT Event//EN
VERSION:2.0
METHOD:PUBLISH
BEGIN:VEVENT
DTSTAMP:20260419T165042Z
CREATED:20250909T082702Z
UID:ATEvent-48a85e87249e454aac8813c4c5aed09b
LAST-MODIFIED:20251021T183018Z
SUMMARY:Impact of environmental migration on national economic and development cooperation policies in the Euro-Mediterranean area
DTSTART:20251022T123000Z
DTEND:20251022T153000Z
DESCRIPTION:Research Project - The phenomenon of environmental and cli
 matic migrations and its impact on economic and social dynamics in the
  Euro-Mediterranean region
CLASS:PUBLIC
END:VEVENT
END:VCALENDAR
