BEGIN:VCALENDAR
PRODID:-//AT Content Types//AT Event//EN
VERSION:2.0
METHOD:PUBLISH
BEGIN:VEVENT
DTSTAMP:20260419T150815Z
CREATED:20260205T103543Z
UID:ATEvent-d3c48824874f4738a74bdf877221d5a4
LAST-MODIFIED:20260303T162013Z
SUMMARY:Il genocidio culturale\:  origine storica e caratteristiche penalistiche
DTSTART:20260310T130000Z
DTEND:20260310T150000Z
DESCRIPTION:Seminario di approfondimento
CLASS:PUBLIC
END:VEVENT
END:VCALENDAR
