BEGIN:VCALENDAR
PRODID:-//AT Content Types//AT Event//EN
VERSION:1.0
BEGIN:VEVENT
DTSTART:20260422T140000Z
DTEND:20260422T170000Z
DCREATED:20260113T080240Z
UID:ATEvent-db973ec790d74f66bce3bd4ba2f604a8
SEQUENCE:0
LAST-MODIFIED:20260113T125649Z
SUMMARY:Il diritto del mare tra storia e attualità
DESCRIPTION:Evento co-organizzato con il Centro Internazionale di Stud
 i Gentiliani
PRIORITY:3
TRANSP:0
END:VEVENT
END:VCALENDAR
