BEGIN:VCALENDAR
PRODID:-//AT Content Types//AT Event//EN
VERSION:1.0
BEGIN:VEVENT
DTSTART:20251209T160000Z
DTEND:20251209T180000Z
DCREATED:20251023T085335Z
UID:ATEvent-b3df115520ac4d8b8fb35331e02763a1
SEQUENCE:0
LAST-MODIFIED:20251023T090537Z
SUMMARY:Fiordiano Malatesta da Rimini e la sua Operetta non meno utile che dilettevole della natura e della qualità di tutti i pesci nel panorama dei trattati di ittiologia del ‘500
DESCRIPTION:UMANESIMO ADRIATICO (SECC. XIV-XVI)\: RICERCHE\, RACCONTI\
 , LETTURE | Adriatic Humanism (XIVth-XVIth Centuries)\: research\, sto
 ries and readings (Ciclo X)
PRIORITY:3
TRANSP:0
END:VEVENT
END:VCALENDAR
