BEGIN:VCALENDAR
PRODID:-//AT Content Types//AT Event//EN
VERSION:2.0
METHOD:PUBLISH
BEGIN:VEVENT
DTSTAMP:20260419T152940Z
CREATED:20251023T085821Z
UID:ATEvent-6f02f89290544189b8fac95c51127373
LAST-MODIFIED:20251023T090502Z
SUMMARY:Crimini eclatanti o pazzia latente? Casi di violenza nell’Italia del secolo XVI
DTSTART:20260115T160000Z
DTEND:20260115T180000Z
DESCRIPTION:UMANESIMO ADRIATICO (SECC. XIV-XVI)\: RICERCHE\, RACCONTI\
 , LETTURE | Adriatic Humanism (XIVth-XVIth Centuries)\: research\, sto
 ries and readings (Ciclo X)
CLASS:PUBLIC
END:VEVENT
END:VCALENDAR
