BEGIN:VCALENDAR
PRODID:-//AT Content Types//AT Event//EN
VERSION:2.0
METHOD:PUBLISH
BEGIN:VEVENT
DTSTAMP:20260419T165218Z
CREATED:20250901T143001Z
UID:ATEvent-7f623f34c9b74acea091be749598b4cd
LAST-MODIFIED:20250901T144135Z
SUMMARY:AssIDMer Conference – The sustainable management of fisheries and marine biodiversity | La gestion durable de la pêche et de la biodiversité marine
DTSTART:20250911T123000Z
DTEND:20250911T170000Z
DESCRIPTION:CiRAM is a partner of this event.
CLASS:PUBLIC
END:VEVENT
END:VCALENDAR
