BEGIN:VCALENDAR
PRODID:-//AT Content Types//AT Event//EN
VERSION:1.0
BEGIN:VEVENT
DTSTART:20260219T083000Z
DTEND:20260219T164500Z
DCREATED:20251121T095112Z
UID:ATEvent-286155d920ec43d7a3fc1d8c2469cdf8
SEQUENCE:0
LAST-MODIFIED:20260209T135508Z
SUMMARY:CliMESD International Symposium - Global Frameworks and Strategies to  Climate Change\, Environmental Migration\,  and Sustainable Development Challenges
PRIORITY:3
TRANSP:0
END:VEVENT
END:VCALENDAR
