BEGIN:VCALENDAR
PRODID:-//AT Content Types//AT Event//EN
VERSION:2.0
METHOD:PUBLISH
BEGIN:VEVENT
DTSTAMP:20260419T150238Z
CREATED:20250714T140021Z
UID:ATEvent-0bf8b59401b44d8aa170f3c81500f2e1
LAST-MODIFIED:20250909T093131Z
SUMMARY:Climate Change\, Environmental Migration and Sustainable Development
DTSTART:20250923T123000Z
DTEND:20250923T140000Z
DESCRIPTION:Panel within the 2025 SOCIN Conference - Rethinking Innova
 tion\: Inclusive Practices and Interdisciplinary Perspectives (Septemb
 er 23-26\, 2025)
CLASS:PUBLIC
END:VEVENT
END:VCALENDAR
