BEGIN:VCALENDAR
PRODID:-//AT Content Types//AT Event//EN
VERSION:1.0
BEGIN:VEVENT
DTSTART:20260122T150000Z
DTEND:20260122T170000Z
DCREATED:20260114T095247Z
UID:ATEvent-0a818f95173642ec9a93fde9628fd282
SEQUENCE:0
LAST-MODIFIED:20260114T095309Z
SUMMARY:Azioni e interazioni per una "blue economy" sostenibile\: le strategie giuridiche
DESCRIPTION:Evento del  PRIN PNRR 2022 “Legal Strategies for Actions
  and Interactions in the Sustainable Blue Economy”
PRIORITY:3
TRANSP:0
END:VEVENT
END:VCALENDAR
