BEGIN:VCALENDAR
PRODID:-//AT Content Types//AT Event//EN
VERSION:2.0
METHOD:PUBLISH
BEGIN:VEVENT
DTSTAMP:20260419T153234Z
CREATED:20250901T143714Z
UID:ATEvent-98ca37e5e481499dacf565052813d26f
LAST-MODIFIED:20250901T143948Z
SUMMARY:AssIDMer Conference – The sustainable management of fisheries and marine biodiversity | La gestion durable de la pêche et de la biodiversité marine
DTSTART:20250912T073000Z
DTEND:20250912T173000Z
DESCRIPTION:CiRAM is partner of this event.
CLASS:PUBLIC
END:VEVENT
END:VCALENDAR
