BEGIN:VCALENDAR
PRODID:-//AT Content Types//AT Event//EN
VERSION:2.0
METHOD:PUBLISH
BEGIN:VEVENT
DTSTAMP:20260419T150744Z
CREATED:20250626T134414Z
UID:ATEvent-708b16255baa4197a18c73137a2c149a
LAST-MODIFIED:20251002T114250Z
SUMMARY:Ambiente vulnerabile e aiuti di stato. Un dialogo Europa-Italia
DTSTART:20251017T073000Z
DTEND:20251017T110000Z
DESCRIPTION:Tavola rotonda organizzata nell'ambito del Macerata Humani
 ties Festival 2025
CLASS:PUBLIC
END:VEVENT
END:VCALENDAR
