BEGIN:VCALENDAR
PRODID:-//AT Content Types//AT Event//EN
VERSION:2.0
METHOD:PUBLISH
BEGIN:VEVENT
DTSTAMP:20260419T150815Z
CREATED:20251121T095316Z
UID:ATEvent-89789a50e697416ab9c57de897cddb72
LAST-MODIFIED:20260209T135438Z
SUMMARY:CliMESD International Symposium - Global Frameworks and Strategies to  Climate Change\, Environmental Migration\, and Sustainable Development Challenges
DTSTART:20260220T090000Z
DTEND:20260220T153000Z
CLASS:PUBLIC
END:VEVENT
END:VCALENDAR
